BEGIN:VCALENDAR
VERSION:2.0
PRODID:icalendar-ruby
CALSCALE:GREGORIAN
METHOD:PUBLISH
BEGIN:VEVENT
DTSTAMP:20260424T104150Z
UID:13-433059@cosumc.org
DTSTART:20260929T233000Z
DTEND:20260930T003000Z
CLASS:PUBLIC
CREATED:20260423T231110
DESCRIPTION:
LAST-MODIFIED:20260423T231110
LOCATION:Congress Street UMC
SUMMARY:AA Meeting - How Sweet It is (O\,D)
URL;VALUE=URI:https://cosumc.org/events/aa-meeting-how-sweet-it-is-o-d/2026
 -09-29
END:VEVENT
END:VCALENDAR
