BEGIN:VCALENDAR
VERSION:2.0
PRODID:icalendar-ruby
CALSCALE:GREGORIAN
METHOD:PUBLISH
BEGIN:VEVENT
DTSTAMP:20260424T135241Z
UID:13-433435@cosumc.org
DTSTART:20261013T233000Z
DTEND:20261014T003000Z
CLASS:PUBLIC
CREATED:20260424T083913
DESCRIPTION:
LAST-MODIFIED:20260424T083913
LOCATION:Congress Street UMC
SUMMARY:AA Meeting - How Sweet It is (O\,D)
URL;VALUE=URI:https://cosumc.org/events/aa-meeting-how-sweet-it-is-o-d/2026
 -10-13
END:VEVENT
END:VCALENDAR
