BEGIN:VCALENDAR
VERSION:2.0
PRODID:icalendar-ruby
CALSCALE:GREGORIAN
METHOD:PUBLISH
BEGIN:VEVENT
DTSTAMP:20260424T154427Z
UID:13-433810@cosumc.org
DTSTART:20261020T233000Z
DTEND:20261021T003000Z
CLASS:PUBLIC
CREATED:20260424T113159
DESCRIPTION:
LAST-MODIFIED:20260424T113159
LOCATION:Congress Street UMC
SUMMARY:AA Meeting - How Sweet It is (O\,D)
URL;VALUE=URI:https://cosumc.org/events/aa-meeting-how-sweet-it-is-o-d/2026
 -10-20
END:VEVENT
END:VCALENDAR
