BEGIN:VCALENDAR
VERSION:2.0
PRODID:icalendar-ruby
CALSCALE:GREGORIAN
METHOD:PUBLISH
BEGIN:VEVENT
DTSTAMP:20260424T190511Z
UID:13-434186@cosumc.org
DTSTART:20261104T003000Z
DTEND:20261104T013000Z
CLASS:PUBLIC
CREATED:20260424T141747
DESCRIPTION:
LAST-MODIFIED:20260424T141747
LOCATION:Congress Street UMC
SUMMARY:AA Meeting - How Sweet It is (O\,D)
URL;VALUE=URI:https://cosumc.org/events/aa-meeting-how-sweet-it-is-o-d/2026
 -11-03
END:VEVENT
END:VCALENDAR
