BEGIN:VCALENDAR
VERSION:2.0
PRODID:icalendar-ruby
CALSCALE:GREGORIAN
METHOD:PUBLISH
BEGIN:VEVENT
DTSTAMP:20260424T153229Z
UID:17-433891@cosumc.org
DTSTART:20261014T230000Z
DTEND:20261015T000000Z
CLASS:PUBLIC
CREATED:20260424T113159
DESCRIPTION:If you have a love for music\, now is the time to get connected
  with our choir!\nThey are actively rehearsing for the Lent/Easter Season\
 , and we would love more voices to join us!\nAll are welcome\, and no expe
 rience is necessary. Practices are on Wednesday at the Congress St. UMC Ch
 apel at 7 pm.\n\nContact Amanze Egere at amanzeegere@gmail.com
LAST-MODIFIED:20260424T113159
LOCATION:
SUMMARY:B&C Chancel Choir
URL;VALUE=URI:https://cosumc.org/events/b-c-chancel-choir/2026-10-14
END:VEVENT
END:VCALENDAR
