BEGIN:VCALENDAR
VERSION:2.0
PRODID:icalendar-ruby
CALSCALE:GREGORIAN
METHOD:PUBLISH
BEGIN:VEVENT
DTSTAMP:20260422T143157Z
UID:7-428755@cosumc.org
DTSTART:20260929T213000Z
DTEND:20260930T000000Z
CLASS:PUBLIC
CREATED:20260422T083807
DESCRIPTION:
LAST-MODIFIED:20260422T083807
LOCATION:Brown Street UMC Fellowship Hall (905 Brown St\, Lafayette)
SUMMARY:Family Dinner @ Brown St UMC
URL;VALUE=URI:https://cosumc.org/events/family-dinner-brown-st-umc/2026-09-
 29
END:VEVENT
END:VCALENDAR
