BEGIN:VCALENDAR
VERSION:2.0
PRODID:icalendar-ruby
CALSCALE:GREGORIAN
METHOD:PUBLISH
BEGIN:VEVENT
DTSTAMP:20260422T173254Z
UID:7-429127@cosumc.org
DTSTART:20261013T213000Z
DTEND:20261014T000000Z
CLASS:PUBLIC
CREATED:20260422T113323
DESCRIPTION:
LAST-MODIFIED:20260422T113323
LOCATION:Brown Street UMC Fellowship Hall (905 Brown St\, Lafayette)
SUMMARY:Family Dinner @ Brown St UMC
URL;VALUE=URI:https://cosumc.org/events/family-dinner-brown-st-umc/2026-10-
 13
END:VEVENT
END:VCALENDAR
