BEGIN:VCALENDAR
VERSION:2.0
PRODID:icalendar-ruby
CALSCALE:GREGORIAN
METHOD:PUBLISH
BEGIN:VEVENT
DTSTAMP:20260422T185935Z
UID:7-429498@cosumc.org
DTSTART:20261020T213000Z
DTEND:20261021T000000Z
CLASS:PUBLIC
CREATED:20260422T142758
DESCRIPTION:
LAST-MODIFIED:20260422T142758
LOCATION:Brown Street UMC Fellowship Hall (905 Brown St\, Lafayette)
SUMMARY:Family Dinner @ Brown St UMC
URL;VALUE=URI:https://cosumc.org/events/family-dinner-brown-st-umc/2026-10-
 20
END:VEVENT
END:VCALENDAR
