BEGIN:VCALENDAR
VERSION:2.0
PRODID:icalendar-ruby
CALSCALE:GREGORIAN
METHOD:PUBLISH
BEGIN:VEVENT
DTSTAMP:20260422T220541Z
UID:7-429872@cosumc.org
DTSTART:20261103T223000Z
DTEND:20261104T010000Z
CLASS:PUBLIC
CREATED:20260422T172321
DESCRIPTION:
LAST-MODIFIED:20260422T172321
LOCATION:Brown Street UMC Fellowship Hall (905 Brown St\, Lafayette)
SUMMARY:Family Dinner @ Brown St UMC
URL;VALUE=URI:https://cosumc.org/events/family-dinner-brown-st-umc/2026-11-
 03
END:VEVENT
END:VCALENDAR
