BEGIN:VCALENDAR
VERSION:2.0
PRODID:icalendar-ruby
CALSCALE:GREGORIAN
METHOD:PUBLISH
BEGIN:VEVENT
DTSTAMP:20260422T175222Z
UID:10-429208@cosumc.org
DTSTART:20260930T160000Z
DTEND:20260930T170000Z
CLASS:PUBLIC
CREATED:20260422T113323
DESCRIPTION:
LAST-MODIFIED:20260422T113323
LOCATION:Pizza Hut on Farabee Dr\, Lafayette
SUMMARY:Pizza with the Pastor
URL;VALUE=URI:https://cosumc.org/events/pizza-with-the-pastor/2026-09-30
END:VEVENT
END:VCALENDAR
