BEGIN:VCALENDAR
VERSION:2.0
PRODID:icalendar-ruby
CALSCALE:GREGORIAN
METHOD:PUBLISH
BEGIN:VEVENT
DTSTAMP:20260422T193053Z
UID:10-429579@cosumc.org
DTSTART:20261007T160000Z
DTEND:20261007T170000Z
CLASS:PUBLIC
CREATED:20260422T142759
DESCRIPTION:
LAST-MODIFIED:20260422T142759
LOCATION:Pizza Hut on Farabee Dr\, Lafayette
SUMMARY:Pizza with the Pastor
URL;VALUE=URI:https://cosumc.org/events/pizza-with-the-pastor/2026-10-07
END:VEVENT
END:VCALENDAR
