BEGIN:VCALENDAR
VERSION:2.0
PRODID:icalendar-ruby
CALSCALE:GREGORIAN
METHOD:PUBLISH
BEGIN:VEVENT
DTSTAMP:20260422T223630Z
UID:10-429953@cosumc.org
DTSTART:20261021T160000Z
DTEND:20261021T170000Z
CLASS:PUBLIC
CREATED:20260422T172322
DESCRIPTION:
LAST-MODIFIED:20260422T172322
LOCATION:Pizza Hut on Farabee Dr\, Lafayette
SUMMARY:Pizza with the Pastor
URL;VALUE=URI:https://cosumc.org/events/pizza-with-the-pastor/2026-10-21
END:VEVENT
END:VCALENDAR
