BEGIN:VCALENDAR
VERSION:2.0
PRODID:icalendar-ruby
CALSCALE:GREGORIAN
METHOD:PUBLISH
BEGIN:VEVENT
DTSTAMP:20260423T001526Z
UID:10-430326@cosumc.org
DTSTART:20261028T160000Z
DTEND:20261028T170000Z
CLASS:PUBLIC
CREATED:20260422T201453
DESCRIPTION:
LAST-MODIFIED:20260422T201453
LOCATION:Pizza Hut on Farabee Dr\, Lafayette
SUMMARY:Pizza with the Pastor
URL;VALUE=URI:https://cosumc.org/events/pizza-with-the-pastor/2026-10-28
END:VEVENT
END:VCALENDAR
